BEGIN:VCALENDAR
VERSION:2.0
PRODID:-//ChamberMaster//Event Calendar 2.0//EN
METHOD:PUBLISH
X-PUBLISHED-TTL:P1H
REFRESH-INTERVAL:P1H
CALSCALE:GREGORIAN
BEGIN:VTIMEZONE
TZID:America/Los_Angeles
BEGIN:DAYLIGHT
RRULE:FREQ=YEARLY;BYMONTH=3;BYDAY=2SU
DTSTART:20070101T000000
TZOFFSETFROM:-0800
TZOFFSETTO:-0700
TZNAME:Pacific Daylight Time
END:DAYLIGHT
BEGIN:STANDARD
RRULE:FREQ=YEARLY;BYMONTH=11;BYDAY=1SU
DTSTART:20070101T000000
TZOFFSETFROM:-0700
TZOFFSETTO:-0800
TZNAME:Pacific Standard Time
END:STANDARD
END:VTIMEZONE
BEGIN:VEVENT
DTSTART;TZID=America/Los_Angeles:20260626T180000
DTEND;TZID=America/Los_Angeles:20260626T200000
X-MICROSOFT-CDO-ALLDAYEVENT:FALSE
SUMMARY:Wine-ng with James in France - Part 3 of 3 - Rhone
DESCRIPTION:Step into the world of Rhone. \nJoin James for an immersive tasting experience as we explore the region's most iconic red and white wines. Take a journey through The Rhone Valley to taste how the wines change going south and have such a key place in the wine world. \n- Taste six exceptional wines - Learn what sets Rhone apart - Enjoy a relaxed\, guided experience \nSpots are limited reserve yours today and sip your way through one of the world's most celebrated wine regions. Tickets $45 + GST Available for purchase at Everything Wine Abbotsford or by calling 604-776-5353 to reserve your spot via credit card Part 1 - June 12 Part 2 - June 19 Part 3 - June 26
X-ALT-DESC;FMTTYPE=text/html:<!DOCTYPE html><html><head><title></title></head><body aria-disabled="false"><p>Step into the world of Rhone.&nbsp\;</p><p><br></p><p>Join James for an immersive tasting experience as we explore the region&rsquo\;s most iconic red and white wines. Take a journey through The Rhone Valley to taste how the wines change going south and have such a key place in the wine world.&nbsp\;</p><p><br></p><p>- Taste six exceptional wines&nbsp\;</p><p>- Learn what sets Rhone apart&nbsp\;</p><p>- Enjoy a relaxed\, guided experience&nbsp\;</p><p><br></p><p>Spots are limited&mdash\;reserve yours today and sip your way through one of the world&rsquo\;s most celebrated wine regions. Tickets $45 + GST Available for purchase at Everything Wine Abbotsford or by calling 604-776-5353 to reserve your spot via credit card&nbsp\;</p><p>Part 1 - June 12&nbsp\;</p><p>Part 2 - June 19&nbsp\;</p><p>Part 3 - June 26</p></body></html>
LOCATION:125 - 1828 McCallum Rd. Abbotsford BC V2S 3M7
UID:e.3533.1449435
SEQUENCE:3
DTSTAMP:20260423T010028Z
URL:https://business.abbotsfordchamber.com/chamber-calendar/Details/wine-ng-with-james-in-france-part-3-of-3-rhone-1716896?sourceTypeId=Hub
END:VEVENT
END:VCALENDAR
