BEGIN:VCALENDAR
VERSION:2.0
PRODID:-//ChamberMaster//Event Calendar 2.0//EN
METHOD:PUBLISH
X-PUBLISHED-TTL:P1H
REFRESH-INTERVAL:P1H
CALSCALE:GREGORIAN
BEGIN:VTIMEZONE
TZID:America/Los_Angeles
BEGIN:DAYLIGHT
RRULE:FREQ=YEARLY;BYMONTH=3;BYDAY=2SU
DTSTART:20070101T000000
TZOFFSETFROM:-0800
TZOFFSETTO:-0700
TZNAME:Pacific Daylight Time
END:DAYLIGHT
BEGIN:STANDARD
RRULE:FREQ=YEARLY;BYMONTH=11;BYDAY=1SU
DTSTART:20070101T000000
TZOFFSETFROM:-0700
TZOFFSETTO:-0800
TZNAME:Pacific Standard Time
END:STANDARD
END:VTIMEZONE
BEGIN:VEVENT
DTSTART;TZID=America/Los_Angeles:20260619T180000
DTEND;TZID=America/Los_Angeles:20260619T200000
X-MICROSOFT-CDO-ALLDAYEVENT:FALSE
SUMMARY:Wine-ng with James in France - Part 2 of 3 - Bordeaux
DESCRIPTION:Step into the world of Bordeax. Join James for an immersive tasting experience as we explore the region's most iconic red and white wines. Take a journey through Bordeaux and discover how such a small yet legendary region produces an incredible diversity of styles. \n- Taste six exceptional wines - Learn what sets Bordeaux apart - Enjoy a relaxed\, guided experience \nSpots are limited reserve yours today and sip your way through one of the world's most celebrated wine regions.Tickets $45 + GST each session Available for purchase at Everything Wine Abbotsford or by calling 604-776-5353 to reserve your spot via credit card \nPart 1 - June 12 Part 2 - June 19 Part 3 - June 26
X-ALT-DESC;FMTTYPE=text/html:<!DOCTYPE html><html><head><title></title></head><body aria-disabled="false"><p>Step into the world of Bordeax.&nbsp\;</p><p>Join James for an immersive tasting experience as we explore the region&rsquo\;s most iconic red and white wines. Take a journey through Bordeaux and discover how such a small yet legendary region produces an incredible diversity of styles.&nbsp\;</p><p><br></p><p>- Taste six exceptional wines&nbsp\;</p><p>- Learn what sets Bordeaux apart&nbsp\;</p><p>- Enjoy a relaxed\, guided experience&nbsp\;</p><p><br></p><p>Spots are limited&mdash\;reserve yours today and sip your way through one of the world&rsquo\;s most celebrated wine regions.</p><p>Tickets $45 + GST each session Available for purchase at Everything Wine Abbotsford or by calling 604-776-5353 to reserve your spot via credit card&nbsp\;</p><p><br></p><p>Part 1 - June 12&nbsp\;</p><p>Part 2 - June 19&nbsp\;</p><p>Part 3 - June 26</p></body></html>
LOCATION:125 - 1828 McCallum Rd. Abbotsford BC V2S 3M7
UID:e.3533.1449423
SEQUENCE:3
DTSTAMP:20260423T005906Z
URL:https://business.abbotsfordchamber.com/chamber-calendar/Details/wine-ng-with-james-in-france-part-2-of-3-bordeaux-1716867?sourceTypeId=Hub
END:VEVENT
END:VCALENDAR
