BEGIN:VCALENDAR
VERSION:2.0
PRODID:-//ChamberMaster//Event Calendar 2.0//EN
METHOD:PUBLISH
X-PUBLISHED-TTL:P1H
REFRESH-INTERVAL:P1H
CALSCALE:GREGORIAN
BEGIN:VTIMEZONE
TZID:America/Los_Angeles
BEGIN:DAYLIGHT
RRULE:FREQ=YEARLY;BYMONTH=3;BYDAY=2SU
DTSTART:20070101T000000
TZOFFSETFROM:-0800
TZOFFSETTO:-0700
TZNAME:Pacific Daylight Time
END:DAYLIGHT
BEGIN:STANDARD
RRULE:FREQ=YEARLY;BYMONTH=11;BYDAY=1SU
DTSTART:20070101T000000
TZOFFSETFROM:-0700
TZOFFSETTO:-0800
TZNAME:Pacific Standard Time
END:STANDARD
END:VTIMEZONE
BEGIN:VEVENT
DTSTART;TZID=America/Los_Angeles:20260507T140000
DTEND;TZID=America/Los_Angeles:20260507T160000
X-MICROSOFT-CDO-ALLDAYEVENT:FALSE
SUMMARY:Mother's Day Afternoon Plant n' Sip
DESCRIPTION:Celebrate Mother's Day with a special experience you won't forget! \nJoin us for a beautifully curated event hosted by our wine buyer\, Felicia. Create your own stunning outdoor flowering planter to take home while enjoying a selection of wine samples and light snacks. It's the perfect way to show love and appreciation for the amazing mothers and mother figures in your life. \nSpots are limited reserve yours today and celebrate with us!Tickets $50 + GST Available at Everything Wine Abbotsford or call 604-776-5353 to reserve your spot via credit card.
X-ALT-DESC;FMTTYPE=text/html:<!DOCTYPE html><html><head><title></title></head><body aria-disabled="false"><p>Celebrate Mother&rsquo\;s Day with a special experience you won&rsquo\;t forget!&nbsp\;</p><p><br></p><p>Join us for a beautifully curated event hosted by our wine buyer\, Felicia.&nbsp\;</p><p>Create your own stunning outdoor flowering planter to take home while enjoying a selection of wine samples and light snacks. It&rsquo\;s the perfect way to show love and appreciation for the amazing mothers and mother figures in your life.&nbsp\;</p><p><br></p><p>Spots are limited&mdash\;reserve yours today and celebrate with us!</p><p>Tickets $50 + GST&nbsp\;</p><p>Available at Everything Wine Abbotsford or call 604-776-5353 to reserve your spot via credit card.</p></body></html>
LOCATION:125 - 1828 McCallum Abbotsford BC V2S 3M7
UID:e.3533.1449293
SEQUENCE:3
DTSTAMP:20260423T000521Z
URL:https://business.abbotsfordchamber.com/chamber-calendar/Details/mother-s-day-afternoon-plant-n-sip-1716694?sourceTypeId=Hub
END:VEVENT
END:VCALENDAR
