BEGIN:VCALENDAR
VERSION:2.0
PRODID:-//ChamberMaster//Event Calendar 2.0//EN
METHOD:PUBLISH
X-PUBLISHED-TTL:P1H
REFRESH-INTERVAL:P1H
CALSCALE:GREGORIAN
BEGIN:VTIMEZONE
TZID:America/Los_Angeles
BEGIN:DAYLIGHT
RRULE:FREQ=YEARLY;BYMONTH=3;BYDAY=2SU
DTSTART:20070101T000000
TZOFFSETFROM:-0800
TZOFFSETTO:-0700
TZNAME:Pacific Daylight Time
END:DAYLIGHT
BEGIN:STANDARD
RRULE:FREQ=YEARLY;BYMONTH=11;BYDAY=1SU
DTSTART:20070101T000000
TZOFFSETFROM:-0700
TZOFFSETTO:-0800
TZNAME:Pacific Standard Time
END:STANDARD
END:VTIMEZONE
BEGIN:VEVENT
DTSTART;TZID=America/Los_Angeles:20260527T183000
DTEND;TZID=America/Los_Angeles:20260527T203000
X-MICROSOFT-CDO-ALLDAYEVENT:FALSE
SUMMARY:Iced Strawberry Matcha
DESCRIPTION:Discover the art of candle-making in this fun\, hands-on workshop led by Sarah\, owner of Lupin Lifestyle Co.Create your very own Iced Strawberry Matcha Candle\, beautifully poured into a reusable glass   a perfect keepsake to enjoy long after the workshop ends. This immersive experience will guide you step by step as you craft a stunning candle that looks almost good enough to sip. \nWhat's Included: - A handcrafted Iced Strawberry Matcha Candle in a reusable glass - Expert\, step-by-step guidance throughout the process - All materials and tools provided   just bring your creativity - A curated selection of liqueur and beverage samples along with light snacks to enjoy during your experience\n Tickets $55 + GST Available for purchase at Everything Wine Abbotsford or by calling 604-776-5353 to reserve your spot via credit card
X-ALT-DESC;FMTTYPE=text/html:<!DOCTYPE html><html><head><title></title></head><body aria-disabled="false"><p>Discover the art of candle-making in this fun\, hands-on workshop led by Sarah\, owner of Lupin Lifestyle Co.</p><p>Create your very own Iced Strawberry Matcha Candle\, beautifully poured into a reusable glass &mdash\; a perfect keepsake to enjoy long after the workshop ends. This immersive experience will guide you step by step as you craft a stunning candle that looks almost good enough to sip.&nbsp\;</p><p><br></p><p>What&rsquo\;s Included:&nbsp\;</p><p>- A handcrafted Iced Strawberry Matcha Candle in a reusable glass&nbsp\;</p><p>- Expert\, step-by-step guidance throughout the process&nbsp\;</p><p>- All materials and tools provided &mdash\; just bring your creativity&nbsp\;</p><p>- A curated selection of liqueur and beverage samples along with light snacks to enjoy during your experience</p><p><br></p><p>&nbsp\;Tickets $55 + GST Available for purchase at Everything Wine Abbotsford or by calling 604-776-5353 to reserve your spot via credit card</p></body></html>
LOCATION:125 - 1828 McCallum Rd. Abbotsford BC V2S 3M7
UID:e.3533.1449347
SEQUENCE:3
DTSTAMP:20260423T000109Z
URL:https://business.abbotsfordchamber.com/chamber-calendar/Details/iced-strawberry-matcha-1716790?sourceTypeId=Hub
END:VEVENT
END:VCALENDAR
