BEGIN:VCALENDAR
VERSION:2.0
PRODID:-//ChamberMaster//Event Calendar 2.0//EN
METHOD:PUBLISH
X-PUBLISHED-TTL:P1H
REFRESH-INTERVAL:P1H
CALSCALE:GREGORIAN
BEGIN:VTIMEZONE
TZID:America/Los_Angeles
BEGIN:DAYLIGHT
RRULE:FREQ=YEARLY;BYMONTH=3;BYDAY=2SU
DTSTART:20070101T000000
TZOFFSETFROM:-0800
TZOFFSETTO:-0700
TZNAME:Pacific Daylight Time
END:DAYLIGHT
BEGIN:STANDARD
RRULE:FREQ=YEARLY;BYMONTH=11;BYDAY=1SU
DTSTART:20070101T000000
TZOFFSETFROM:-0700
TZOFFSETTO:-0800
TZNAME:Pacific Standard Time
END:STANDARD
END:VTIMEZONE
BEGIN:VEVENT
DTSTART;TZID=America/Los_Angeles:20260605T180000
DTEND;TZID=America/Los_Angeles:20260605T200000
X-MICROSOFT-CDO-ALLDAYEVENT:FALSE
SUMMARY:Chianti Masterclass: Castello di Gabbiano
DESCRIPTION:Explore the passion of Italian wine. Join us for a relaxed and engaging masterclass tasting featuring wines from Castello di Gabbiano\, hosted by Brand Ambassador Luigi Di Tullio. Set in the heart of Chianti Classico\, this historic winery\, whose winemaking origins date back to the 14th century\, boasts over 300 years of tradition. Deeply rooted in its terroir\, Gabbiano is dedicated to understanding the land and nurturing the vines\, taking care at every step to grow exceptional grapes that become delicious\, well-balanced wines. \nLuigi will guide you through a curated lineup that showcases the range and personality of Gabbiano\, including: -  Pinot Grigio $16.98 - Chianti $16.99 - Chianti Classico $22.99 - Bellezza Chianti Classico Gran Selezione $55.98 - Alleanza $62.98 \nWhether you're just getting into wine or already love Chianti\, this is a great chance to learn\, ask questions\, and taste some fantastic wines. Cheese and charcuterie will be provided to snack on as you sip and explore. \nTickets $20 + GST - Limited Seats - Reserve your spot today! Tickets available in person at Everything Wine Abbotsford or by calling 604-776-5353 to reserve your spot via credit card
X-ALT-DESC;FMTTYPE=text/html:<!DOCTYPE html><html><head><title></title></head><body aria-disabled="false"><p>Explore the passion of Italian wine.&nbsp\;</p><p>Join us for a relaxed and engaging masterclass tasting featuring wines from Castello di Gabbiano\, hosted by Brand Ambassador Luigi Di Tullio.&nbsp\;</p><p>Set in the heart of Chianti Classico\, this historic winery\, whose winemaking origins date back to the 14th century\, boasts over 300 years of tradition. Deeply rooted in its terroir\, Gabbiano is dedicated to understanding the land and nurturing the vines\, taking care at every step to grow exceptional grapes that become delicious\, well-balanced wines.&nbsp\;</p><p><br></p><p>Luigi will guide you through a curated lineup that showcases the range and personality of Gabbiano\, including:&nbsp\;</p><p>- &nbsp\;Pinot Grigio $16.98&nbsp\;</p><p>- Chianti $16.99&nbsp\;</p><p>- Chianti Classico $22.99&nbsp\;</p><p>- Bellezza Chianti Classico Gran Selezione $55.98&nbsp\;</p><p>- Alleanza $62.98&nbsp\;</p><p><br></p><p>Whether you&#39\;re just getting into wine or already love Chianti\, this is a great chance to learn\, ask questions\, and taste some fantastic wines. Cheese and charcuterie will be provided to snack on as you sip and explore.&nbsp\;</p><p><br></p><p>Tickets $20 + GST - Limited Seats - Reserve your spot today! Tickets available in person at Everything Wine Abbotsford or by calling 604-776-5353 to reserve your spot via credit card</p></body></html>
LOCATION:125 - 1828 McCallum Rd. Abbotsford BC V2S 3M7
UID:e.3533.1449452
SEQUENCE:3
DTSTAMP:20260423T001025Z
URL:https://business.abbotsfordchamber.com/chamber-calendar/Details/chianti-masterclass-castello-di-gabbiano-1716911?sourceTypeId=Hub
END:VEVENT
END:VCALENDAR
